BEGIN:VCALENDAR
VERSION:2.0
PRODID:-//Hibiscus Coast Concert Band - ECPv4.4.5//NONSGML v1.0//EN
CALSCALE:GREGORIAN
METHOD:PUBLISH
X-WR-CALNAME:Hibiscus Coast Concert Band
X-ORIGINAL-URL:http://hccb.org.nz
X-WR-CALDESC:Events for Hibiscus Coast Concert Band
BEGIN:VEVENT
DTSTART;TZID=UTC+0:20170323T190000
DTEND;TZID=UTC+0:20170323T210000
DTSTAMP:20180124T124310
CREATED:20170327T230857Z
LAST-MODIFIED:20170327T230857Z
UID:2990-1490295600-1490302800@hccb.org.nz
SUMMARY:Committee Meeting
DESCRIPTION:Meeting for the Concert Band committee members.
URL:http://hccb.org.nz/event/committee-meeting-2/
LOCATION:76 Riverside Rd\, Orewa\, 0946\, New Zealand
CATEGORIES:Meetings
END:VEVENT
END:VCALENDAR