BEGIN:VCALENDAR
VERSION:2.0
PRODID:-//Hibiscus Coast Concert Band - ECPv4.4.5//NONSGML v1.0//EN
CALSCALE:GREGORIAN
METHOD:PUBLISH
X-WR-CALNAME:Hibiscus Coast Concert Band
X-ORIGINAL-URL:http://hccb.org.nz
X-WR-CALDESC:Events for Hibiscus Coast Concert Band
BEGIN:VEVENT
DTSTART;TZID=UTC+0:20170223T190000
DTEND;TZID=UTC+0:20170223T203000
DTSTAMP:20180124T124255
CREATED:20170327T230423Z
LAST-MODIFIED:20170327T230423Z
UID:2983-1487876400-1487881800@hccb.org.nz
SUMMARY:Committee Meeting
DESCRIPTION:Meeting for committee members and those wishing to become committee members for 2017
URL:http://hccb.org.nz/event/committee-meeting/
LOCATION:76 Riverside Rd\, Orewa\, 0946\, New Zealand
CATEGORIES:Meetings
END:VEVENT
END:VCALENDAR