BEGIN:VCALENDAR
VERSION:2.0
PRODID:-//Hibiscus Coast Concert Band - ECPv4.4.5//NONSGML v1.0//EN
CALSCALE:GREGORIAN
METHOD:PUBLISH
X-WR-CALNAME:Hibiscus Coast Concert Band
X-ORIGINAL-URL:http://hccb.org.nz
X-WR-CALDESC:Events for Hibiscus Coast Concert Band
BEGIN:VEVENT
DTSTART;TZID=UTC+0:20170622T190000
DTEND;TZID=UTC+0:20170622T210000
DTSTAMP:20180124T123924
CREATED:20170622T055812Z
LAST-MODIFIED:20170622T055812Z
UID:3068-1498158000-1498165200@hccb.org.nz
SUMMARY:Extra Rehearsal
DESCRIPTION:Extra rehearsal with sectional practice.
URL:http://hccb.org.nz/event/extra-rehearsal/
LOCATION:76 Riverside Rd\, Orewa\, 0946\, New Zealand
CATEGORIES:Rehearsals
END:VEVENT
END:VCALENDAR