BEGIN:VCALENDAR
VERSION:2.0
PRODID:-//Hibiscus Coast Concert Band - ECPv4.4.5//NONSGML v1.0//EN
CALSCALE:GREGORIAN
METHOD:PUBLISH
X-WR-CALNAME:Hibiscus Coast Concert Band
X-ORIGINAL-URL:http://hccb.org.nz
X-WR-CALDESC:Events for Hibiscus Coast Concert Band
BEGIN:VEVENT
DTSTART;TZID=UTC+0:20170727T190000
DTEND;TZID=UTC+0:20170727T210000
DTSTAMP:20180124T123934
CREATED:20170703T061107Z
LAST-MODIFIED:20170703T061107Z
UID:3073-1501182000-1501189200@hccb.org.nz
SUMMARY:Rehearsal
DESCRIPTION:First rehearsal back after school holidays.
URL:http://hccb.org.nz/event/rehearsal-10/
LOCATION:76 Riverside Rd\, Orewa\, 0946\, New Zealand
CATEGORIES:Rehearsals
END:VEVENT
END:VCALENDAR