BEGIN:VCALENDAR
VERSION:2.0
PRODID:-//Hibiscus Coast Concert Band - ECPv6.15.13.1//NONSGML v1.0//EN
CALSCALE:GREGORIAN
METHOD:PUBLISH
X-WR-CALNAME:Hibiscus Coast Concert Band
X-ORIGINAL-URL:https://www.hccb.org.nz
X-WR-CALDESC:Events for Hibiscus Coast Concert Band
REFRESH-INTERVAL;VALUE=DURATION:PT1H
X-Robots-Tag:noindex
X-PUBLISHED-TTL:PT1H
BEGIN:VTIMEZONE
TZID:UTC
BEGIN:STANDARD
TZOFFSETFROM:+0000
TZOFFSETTO:+0000
TZNAME:UTC
DTSTART:20190101T000000
END:STANDARD
END:VTIMEZONE
BEGIN:VEVENT
DTSTART;TZID=UTC:20201105T190000
DTEND;TZID=UTC:20201105T210000
DTSTAMP:20260425T005529
CREATED:20201027T162506Z
LAST-MODIFIED:20201027T162506Z
UID:3325-1604602800-1604610000@www.hccb.org.nz
SUMMARY:Rehearsal
DESCRIPTION:
URL:https://www.hccb.org.nz/event/rehearsal-2/
LOCATION:Orewa College Music Dept\, 76 Riverside Rd\, Orewa\, 0946\, New Zealand
CATEGORIES:Rehearsals
END:VEVENT
END:VCALENDAR