BEGIN:VCALENDAR
VERSION:2.0
PRODID:-//Hibiscus Coast Concert Band - ECPv4.4.5//NONSGML v1.0//EN
CALSCALE:GREGORIAN
METHOD:PUBLISH
X-WR-CALNAME:Hibiscus Coast Concert Band
X-ORIGINAL-URL:http://hccb.org.nz
X-WR-CALDESC:Events for Hibiscus Coast Concert Band
BEGIN:VEVENT
DTSTART;TZID=UTC+0:20170316T190000
DTEND;TZID=UTC+0:20170316T210000
DTSTAMP:20180124T124306
CREATED:20170327T230537Z
LAST-MODIFIED:20170327T230537Z
UID:2985-1489690800-1489698000@hccb.org.nz
SUMMARY:Rehearsal
DESCRIPTION:
URL:http://hccb.org.nz/event/rehearsal-3/
LOCATION:76 Riverside Rd\, Orewa\, 0946\, New Zealand
CATEGORIES:Meetings
END:VEVENT
END:VCALENDAR