BEGIN:VCALENDAR
VERSION:2.0
PRODID:-//Hibiscus Coast Concert Band - ECPv4.4.5//NONSGML v1.0//EN
CALSCALE:GREGORIAN
METHOD:PUBLISH
X-WR-CALNAME:Hibiscus Coast Concert Band
X-ORIGINAL-URL:http://hccb.org.nz
X-WR-CALDESC:Events for Hibiscus Coast Concert Band
BEGIN:VEVENT
DTSTART;TZID=UTC+0:20170216T190000
DTEND;TZID=UTC+0:20170216T210000
DTSTAMP:20180124T124250
CREATED:20170327T230151Z
LAST-MODIFIED:20170327T230151Z
UID:2979-1487271600-1487278800@hccb.org.nz
SUMMARY:Rehearsal
DESCRIPTION:
URL:http://hccb.org.nz/event/rehearsal/
LOCATION:76 Riverside Rd\, Orewa\, 0946\, New Zealand
CATEGORIES:Rehearsals
END:VEVENT
END:VCALENDAR