BEGIN:VCALENDAR
VERSION:2.0
PRODID:-//Hibiscus Coast Concert Band - ECPv4.4.5//NONSGML v1.0//EN
CALSCALE:GREGORIAN
METHOD:PUBLISH
X-WR-CALNAME:Hibiscus Coast Concert Band
X-ORIGINAL-URL:http://hccb.org.nz
X-WR-CALDESC:Events for Hibiscus Coast Concert Band
BEGIN:VEVENT
DTSTART;TZID=UTC+0:20171026T190000
DTEND;TZID=UTC+0:20171026T210000
DTSTAMP:20180124T124128
CREATED:20171019T005252Z
LAST-MODIFIED:20171019T005252Z
UID:3093-1509044400-1509051600@hccb.org.nz
SUMMARY:Rehearsal
DESCRIPTION:
URL:http://hccb.org.nz/event/rehearsal-16/
LOCATION:76 Riverside Rd\, Orewa\, 0946\, New Zealand
CATEGORIES:Rehearsals
END:VEVENT
END:VCALENDAR